BEGIN:VCALENDAR
VERSION:2.0
PRODID:-//Tukios.com/
BEGIN:VEVENT
UID:3d193fd8-4714-4ace-8f8b-55d37a4894fb@www.crawfordfh.com
DTSTAMP:20260420T213554Z
DTSTART:20260425T180000Z
DTEND:20260425T220000Z
SUMMARY:Celebration of Life
DESCRIPTION:
URL:https://www.crawfordfh.com/obituaries/natasha-lambert
LOCATION:American Legion Post 244 452 N Main St  Westfield WI 53964
GEO:43.8920079;-89.4925033
END:VEVENT
END:VCALENDAR